BEGIN:VCALENDAR
PRODID:-//eluceo/ical//2.0/EN
VERSION:2.0
CALSCALE:GREGORIAN
BEGIN:VEVENT
UID:c2d37a419e4e3d3caf94cfcdaf2099a8
DTSTAMP:20260421T120025Z
SUMMARY:Bouřlivé výšiny
DTSTART;TZID=Europe/Prague:20260423T174500
DTEND;TZID=Europe/Prague:20260423T200100
LOCATION:Bio Central
END:VEVENT
END:VCALENDAR
BEGIN:VCALENDAR
PRODID:-//eluceo/ical//2.0/EN
VERSION:2.0
CALSCALE:GREGORIAN
BEGIN:VEVENT
UID:8d36677f7e878f2923e9d26b051c66d6
DTSTAMP:20260421T120025Z
SUMMARY:Bouřlivé výšiny
DTSTART;TZID=Europe/Prague:20260423T174500
DTEND;TZID=Europe/Prague:20260423T200100
LOCATION:Bio Central
END:VEVENT
END:VCALENDAR
