BEGIN:VCALENDAR
PRODID:-//eluceo/ical//2.0/EN
VERSION:2.0
CALSCALE:GREGORIAN
BEGIN:VEVENT
UID:10bf31e780a461d6038361e8af8139f7
DTSTAMP:20260420T054402Z
SUMMARY:Otec Matka Sestra Bratr
DTSTART;TZID=Europe/Prague:20260507T133000
DTEND;TZID=Europe/Prague:20260507T152000
LOCATION:Kino Aero
END:VEVENT
END:VCALENDAR
BEGIN:VCALENDAR
PRODID:-//eluceo/ical//2.0/EN
VERSION:2.0
CALSCALE:GREGORIAN
BEGIN:VEVENT
UID:c93f7ac7ab3919f02eadd9da8d3342eb
DTSTAMP:20260420T054402Z
SUMMARY:Otec Matka Sestra Bratr
DTSTART;TZID=Europe/Prague:20260507T133000
DTEND;TZID=Europe/Prague:20260507T152000
LOCATION:Kino Aero
END:VEVENT
END:VCALENDAR
