BEGIN:VCALENDAR
PRODID:-//eluceo/ical//2.0/EN
VERSION:2.0
CALSCALE:GREGORIAN
BEGIN:VEVENT
UID:9d95da94479c62ba47c3abee1e92a525
DTSTAMP:20260421T115415Z
SUMMARY:Bouřlivé výšiny
DTSTART;TZID=Europe/Prague:20260426T173000
DTEND;TZID=Europe/Prague:20260426T194600
LOCATION:Kino Světozor
END:VEVENT
END:VCALENDAR
BEGIN:VCALENDAR
PRODID:-//eluceo/ical//2.0/EN
VERSION:2.0
CALSCALE:GREGORIAN
BEGIN:VEVENT
UID:d20f5908d228bb1f24c33a56c41a4441
DTSTAMP:20260421T115415Z
SUMMARY:Bouřlivé výšiny
DTSTART;TZID=Europe/Prague:20260426T173000
DTEND;TZID=Europe/Prague:20260426T194600
LOCATION:Kino Světozor
END:VEVENT
END:VCALENDAR
