BEGIN:VCALENDAR
PRODID:-//eluceo/ical//2.0/EN
VERSION:2.0
CALSCALE:GREGORIAN
BEGIN:VEVENT
UID:f38ec6f8e3cadebce05ef8a111db6ea6
DTSTAMP:20260421T120446Z
SUMMARY:Bouřlivé výšiny
DTSTART;TZID=Europe/Prague:20260425T173000
DTEND;TZID=Europe/Prague:20260425T194600
LOCATION:Kino Světozor
END:VEVENT
END:VCALENDAR
BEGIN:VCALENDAR
PRODID:-//eluceo/ical//2.0/EN
VERSION:2.0
CALSCALE:GREGORIAN
BEGIN:VEVENT
UID:024b2923383bad10c192d90fd84f4f2f
DTSTAMP:20260421T120446Z
SUMMARY:Bouřlivé výšiny
DTSTART;TZID=Europe/Prague:20260425T173000
DTEND;TZID=Europe/Prague:20260425T194600
LOCATION:Kino Světozor
END:VEVENT
END:VCALENDAR
