BEGIN:VCALENDAR
PRODID:-//eluceo/ical//2.0/EN
VERSION:2.0
CALSCALE:GREGORIAN
BEGIN:VEVENT
UID:2f5451c31b73fbefdb90be803700fc65
DTSTAMP:20260420T054341Z
SUMMARY:Otec Matka Sestra Bratr
DTSTART;TZID=Europe/Prague:20260426T114500
DTEND;TZID=Europe/Prague:20260426T133500
LOCATION:Kino Světozor
END:VEVENT
END:VCALENDAR
BEGIN:VCALENDAR
PRODID:-//eluceo/ical//2.0/EN
VERSION:2.0
CALSCALE:GREGORIAN
BEGIN:VEVENT
UID:b383efa39947cd46427d39d9c99d48cf
DTSTAMP:20260420T054341Z
SUMMARY:Otec Matka Sestra Bratr
DTSTART;TZID=Europe/Prague:20260426T114500
DTEND;TZID=Europe/Prague:20260426T133500
LOCATION:Kino Světozor
END:VEVENT
END:VCALENDAR
