BEGIN:VCALENDAR
PRODID:-//eluceo/ical//2.0/EN
VERSION:2.0
CALSCALE:GREGORIAN
BEGIN:VEVENT
UID:d417a2078583895e04fbf6b7ed6f0ae7
DTSTAMP:20260421T115727Z
SUMMARY:Bouřlivé výšiny
DTSTART;TZID=Europe/Prague:20260427T174500
DTEND;TZID=Europe/Prague:20260427T200100
LOCATION:Kino Světozor
END:VEVENT
END:VCALENDAR
BEGIN:VCALENDAR
PRODID:-//eluceo/ical//2.0/EN
VERSION:2.0
CALSCALE:GREGORIAN
BEGIN:VEVENT
UID:713e1741d83a70889f56f85e0ff0ff91
DTSTAMP:20260421T115727Z
SUMMARY:Bouřlivé výšiny
DTSTART;TZID=Europe/Prague:20260427T174500
DTEND;TZID=Europe/Prague:20260427T200100
LOCATION:Kino Světozor
END:VEVENT
END:VCALENDAR
