BEGIN:VCALENDAR
PRODID:-//eluceo/ical//2.0/EN
VERSION:2.0
CALSCALE:GREGORIAN
BEGIN:VEVENT
UID:12628b511cbe26bf510942aefe9234d0
DTSTAMP:20260420T054402Z
SUMMARY:Otec Matka Sestra Bratr
DTSTART;TZID=Europe/Prague:20260427T180000
DTEND;TZID=Europe/Prague:20260427T195000
LOCATION:Bio Oko
END:VEVENT
END:VCALENDAR
BEGIN:VCALENDAR
PRODID:-//eluceo/ical//2.0/EN
VERSION:2.0
CALSCALE:GREGORIAN
BEGIN:VEVENT
UID:a5987ec9fb9d6cd8f91978a5f4b60a13
DTSTAMP:20260420T054402Z
SUMMARY:Otec Matka Sestra Bratr
DTSTART;TZID=Europe/Prague:20260427T180000
DTEND;TZID=Europe/Prague:20260427T195000
LOCATION:Bio Oko
END:VEVENT
END:VCALENDAR
