BEGIN:VCALENDAR
PRODID:-//eluceo/ical//2.0/EN
VERSION:2.0
CALSCALE:GREGORIAN
BEGIN:VEVENT
UID:bf71b8d3647c331404da1d1e70864145
DTSTAMP:20260420T054245Z
SUMMARY:Citová hodnota
DTSTART;TZID=Europe/Prague:20260422T201500
DTEND;TZID=Europe/Prague:20260422T223000
LOCATION:Bio Oko
END:VEVENT
END:VCALENDAR
BEGIN:VCALENDAR
PRODID:-//eluceo/ical//2.0/EN
VERSION:2.0
CALSCALE:GREGORIAN
BEGIN:VEVENT
UID:1563f2ecbb658a63521c976125c275db
DTSTAMP:20260420T054245Z
SUMMARY:Citová hodnota
DTSTART;TZID=Europe/Prague:20260422T201500
DTEND;TZID=Europe/Prague:20260422T223000
LOCATION:Bio Oko
END:VEVENT
END:VCALENDAR
