BEGIN:VCALENDAR
PRODID:-//eluceo/ical//2.0/EN
VERSION:2.0
CALSCALE:GREGORIAN
BEGIN:VEVENT
UID:237a06858768ff7c857daa6cc18b2667
DTSTAMP:20260420T055005Z
SUMMARY:Otec Matka Sestra Bratr
DTSTART;TZID=Europe/Prague:20260422T174500
DTEND;TZID=Europe/Prague:20260422T193500
LOCATION:Kino Světozor
END:VEVENT
END:VCALENDAR
BEGIN:VCALENDAR
PRODID:-//eluceo/ical//2.0/EN
VERSION:2.0
CALSCALE:GREGORIAN
BEGIN:VEVENT
UID:331029d1ecef24e558c85b06b2fa74af
DTSTAMP:20260420T055005Z
SUMMARY:Otec Matka Sestra Bratr
DTSTART;TZID=Europe/Prague:20260422T174500
DTEND;TZID=Europe/Prague:20260422T193500
LOCATION:Kino Světozor
END:VEVENT
END:VCALENDAR
