BEGIN:VCALENDAR
PRODID:-//eluceo/ical//2.0/EN
VERSION:2.0
CALSCALE:GREGORIAN
BEGIN:VEVENT
UID:f929c8baa0810397a47f099c20304c38
DTSTAMP:20260420T054959Z
SUMMARY:Otec Matka Sestra Bratr
DTSTART;TZID=Europe/Prague:20260421T174500
DTEND;TZID=Europe/Prague:20260421T193500
LOCATION:Kino Světozor
END:VEVENT
END:VCALENDAR
BEGIN:VCALENDAR
PRODID:-//eluceo/ical//2.0/EN
VERSION:2.0
CALSCALE:GREGORIAN
BEGIN:VEVENT
UID:f8ae8292e945f6fd2243c037d694a74d
DTSTAMP:20260420T054959Z
SUMMARY:Otec Matka Sestra Bratr
DTSTART;TZID=Europe/Prague:20260421T174500
DTEND;TZID=Europe/Prague:20260421T193500
LOCATION:Kino Světozor
END:VEVENT
END:VCALENDAR
