BEGIN:VCALENDAR
PRODID:-//eluceo/ical//2.0/EN
VERSION:2.0
CALSCALE:GREGORIAN
BEGIN:VEVENT
UID:d1ad7c6979842c62e4e79145fda7ebb4
DTSTAMP:20260421T082953Z
SUMMARY:Poberta
DTSTART;TZID=Europe/Prague:20260306T204500
DTEND;TZID=Europe/Prague:20260306T224300
LOCATION:Kino Lucerna
END:VEVENT
END:VCALENDAR
BEGIN:VCALENDAR
PRODID:-//eluceo/ical//2.0/EN
VERSION:2.0
CALSCALE:GREGORIAN
BEGIN:VEVENT
UID:06323607bf07244b9e0a4d9dbcbea66d
DTSTAMP:20260421T082953Z
SUMMARY:Poberta
DTSTART;TZID=Europe/Prague:20260306T204500
DTEND;TZID=Europe/Prague:20260306T224300
LOCATION:Kino Lucerna
END:VEVENT
END:VCALENDAR
