BEGIN:VCALENDAR
PRODID:-//eluceo/ical//2.0/EN
VERSION:2.0
CALSCALE:GREGORIAN
BEGIN:VEVENT
UID:68cba87ac5d60f91f380f0b56352c081
DTSTAMP:20260421T084848Z
SUMMARY:Poberta
DTSTART;TZID=Europe/Prague:20260309T201500
DTEND;TZID=Europe/Prague:20260309T221300
LOCATION:Kino Světozor
END:VEVENT
END:VCALENDAR
BEGIN:VCALENDAR
PRODID:-//eluceo/ical//2.0/EN
VERSION:2.0
CALSCALE:GREGORIAN
BEGIN:VEVENT
UID:421f135050ebd634f324d93baf330fa9
DTSTAMP:20260421T084848Z
SUMMARY:Poberta
DTSTART;TZID=Europe/Prague:20260309T201500
DTEND;TZID=Europe/Prague:20260309T221300
LOCATION:Kino Světozor
END:VEVENT
END:VCALENDAR
