BEGIN:VCALENDAR
PRODID:-//eluceo/ical//2.0/EN
VERSION:2.0
CALSCALE:GREGORIAN
BEGIN:VEVENT
UID:369e8128b4c1a83174b876683cf849a1
DTSTAMP:20260421T082019Z
SUMMARY:Pod parou
DTSTART;TZID=Europe/Prague:20260415T173000
DTEND;TZID=Europe/Prague:20260415T192200
LOCATION:Bio Central
END:VEVENT
END:VCALENDAR
BEGIN:VCALENDAR
PRODID:-//eluceo/ical//2.0/EN
VERSION:2.0
CALSCALE:GREGORIAN
BEGIN:VEVENT
UID:57d5f07e0105c36f7a2143f5ab1e6b87
DTSTAMP:20260421T082019Z
SUMMARY:Pod parou
DTSTART;TZID=Europe/Prague:20260415T173000
DTEND;TZID=Europe/Prague:20260415T192200
LOCATION:Bio Central
END:VEVENT
END:VCALENDAR
